BEGIN:VCALENDAR
VERSION:2.0
PRODID:-//Jamaica Youth Education Support - ECPv6.15.20//NONSGML v1.0//EN
CALSCALE:GREGORIAN
METHOD:PUBLISH
X-ORIGINAL-URL:https://jamaicayes.org
X-WR-CALDESC:Events for Jamaica Youth Education Support
REFRESH-INTERVAL;VALUE=DURATION:PT1H
X-Robots-Tag:noindex
X-PUBLISHED-TTL:PT1H
BEGIN:VTIMEZONE
TZID:UTC
BEGIN:STANDARD
TZOFFSETFROM:+0000
TZOFFSETTO:+0000
TZNAME:UTC
DTSTART:20180101T000000
END:STANDARD
END:VTIMEZONE
BEGIN:VTIMEZONE
TZID:America/Chicago
BEGIN:DAYLIGHT
TZOFFSETFROM:-0600
TZOFFSETTO:-0500
TZNAME:CDT
DTSTART:20200308T080000
END:DAYLIGHT
BEGIN:STANDARD
TZOFFSETFROM:-0500
TZOFFSETTO:-0600
TZNAME:CST
DTSTART:20201101T070000
END:STANDARD
BEGIN:DAYLIGHT
TZOFFSETFROM:-0600
TZOFFSETTO:-0500
TZNAME:CDT
DTSTART:20210314T080000
END:DAYLIGHT
BEGIN:STANDARD
TZOFFSETFROM:-0500
TZOFFSETTO:-0600
TZNAME:CST
DTSTART:20211107T070000
END:STANDARD
BEGIN:DAYLIGHT
TZOFFSETFROM:-0600
TZOFFSETTO:-0500
TZNAME:CDT
DTSTART:20220313T080000
END:DAYLIGHT
BEGIN:STANDARD
TZOFFSETFROM:-0500
TZOFFSETTO:-0600
TZNAME:CST
DTSTART:20221106T070000
END:STANDARD
END:VTIMEZONE
BEGIN:VEVENT
DTSTART;TZID=UTC:20240127T080000
DTEND;TZID=UTC:20240127T100000
DTSTAMP:20260423T220125
CREATED:20231229T171245Z
LAST-MODIFIED:20231229T171245Z
UID:3409-1706342400-1706349600@jamaicayes.org
SUMMARY:Feed the City - Allen (Tango Tab Charities)
DESCRIPTION:Volunteer Opportunity – it will take approximately two hours or less \nMaking sandwiches for people in need.  Please bring the following for EACH person if there is more than one person coming with you: \nLoaf of Bread\nSliced Cheese\nPackaged lunch meat (turkey\, chicken or ham).  No bologna or meat from the deli counter\nLarge bag of chips\, not individual bags\nBag of Tangerines\nContainer of mustard\nSandwich bag (the zip seal type of sandwich bags) \n 
URL:https://jamaicayes.org/event/feed-the-city-allen-tango-tab-charities/
LOCATION:BoomerJack’s\, 131 E Stacy Rd\, Fairview\, Texas\, 75069
ORGANIZER;CN="Tango Tab Charities":MAILTO:https://www.tangocharities.org/contact
END:VEVENT
BEGIN:VEVENT
DTSTART;TZID=UTC:20240122T080000
DTEND;TZID=UTC:20240204T170000
DTSTAMP:20260423T220125
CREATED:20240103T181126Z
LAST-MODIFIED:20240119T210845Z
UID:3507-1705910400-1707066000@jamaicayes.org
SUMMARY:Donate 2 Impact - Dallas/Fort Worth area
DESCRIPTION:Donate 2 Impact is a locally owned community clothing donation center.  Donations are recycled into financial support for local charities.  For over 11 years\, the primary way we serve our communities is by providing funds to local charities through a sustainable system of donated textile recycling.  Donated goods are converted into financial support to local charities.
URL:https://jamaicayes.org/event/donate-2-impact/
LOCATION:Donate 2 Impact\, 2417 FM 423\, Little Elm\, Texas\, 75068
ORGANIZER;CN="Jamaica Youth Education Support":MAILTO:publicrelations@jamaicayes.org
END:VEVENT
BEGIN:VEVENT
DTSTART;TZID=UTC:20220521T180000
DTEND;TZID=UTC:20220521T233000
DTSTAMP:20260423T220125
CREATED:20200207T195225Z
LAST-MODIFIED:20211020T223944Z
UID:2464-1653156000-1653175800@jamaicayes.org
SUMMARY:2021 Fall Gala Fundraiser - DATE CHANGE
DESCRIPTION:CANCELLED – Due to Covid and the comfort and health of our guests\, we are cancelling our annual gala for 2022. \n 
URL:https://jamaicayes.org/event/2020-fall-gala-fundraiser/
LOCATION:TX
END:VEVENT
BEGIN:VEVENT
DTSTART;TZID=UTC:20210717T080000
DTEND;TZID=UTC:20210717T123000
DTSTAMP:20260423T220125
CREATED:20210107T025127Z
LAST-MODIFIED:20210707T012713Z
UID:2655-1626508800-1626525000@jamaicayes.org
SUMMARY:2021 Changing Children's Lives Golf Tournament
DESCRIPTION:TOURNAMENT IS SOLD OUT!!  ONLINE AUCTION IS STILL AVAILABLE\, closes on Friday\, July 16th at 11:00pm CST.  Come out and join us for some golfing fun at Coyote Ridge Golf Club\, an Avid Golfer Magazine rated Luxury golf course in the DFW area\, while benefiting underserved school children in the rural areas of Jamaica. \n$125  per golfer\n$450 per foursome \nRegister before June 1st and each player will receive\n5 raffle tickets ($20 value). \nClick on the photo above to be taken to the tournament website. \nThere will be prizes for:\n  •  Longest Drive (men and women)\n  •  Closest to the pin (men and women)\n  •  Hole-In-One prize ($25\,000 value)\n  •  Par 3 and Par 5 prizes \nONLINE AUCTION – If you are unable to attend the golf tournament or not a golfer\, you are still able to participate in the online auction to help raise funds for the underserved school children!!  Check out the auction items on the tournament website\, some great items. \nSponsor Opportunities:  Please check out the tournament website to see the list of opportunities. \nVolunteer Opportunities:  We are in need of volunteers (16 years old and older) to help make this tournament run smoothly.  Register on the tournament website – there is a volunteer option.  Once you fill out the information and ‘register for event’\, you are done.  We will be in contact with you and please don’t hesitate to reach out to us with any questions or concerns you may have.  We are following CDC guidelines for the event. \nNonperishable Food items:  We will be collecting nonperishable food items at the tournament for Minnie’s Food Pantry to help people in need in the Dallas area. \nThank you for your support and generosity\, it is greatly appreciated. \n Scan the QR Code to be take directly to the tournament website. \n  \n 
URL:https://jamaicayes.org/event/2021-changing-childrens-lives-golf-tournament/
LOCATION:Coyote Ridge Golf Club\, 1640 W. Hebron Pkwy\, Carrollton\, TX\, 75010\, United States
END:VEVENT
BEGIN:VEVENT
DTSTART;TZID=America/Chicago:20210626T090000
DTEND;TZID=America/Chicago:20210626T190000
DTSTAMP:20260423T220125
CREATED:20210622T192748Z
LAST-MODIFIED:20210626T121712Z
UID:2813-1624698000-1624734000@jamaicayes.org
SUMMARY:Virtual Sparkle & Shine Book Launch Benefit Gala
DESCRIPTION:Whether you purchase ten copies of the Sparkle & Shine book or numerous copies\, the chart below indicates the number of meals that you will be providing to the food insecure school children in the rural areas of Jamaica.  Also the benefits from Jamaica YES from acknowledgement on our website up to your website and logo being posted.  We will have a special newsletter regarding the benefit gala and recognizing all of its supporters\, recognition on the Jamaica YES website.  As noted in the chart below\, the increase in the number of Sparkle & Shine books you purchase\, the level of recognition increases.   \nMost importantly\, the number of meals provided to the food insecure school children in the rural areas of Jamaica increases.  You will be changing children’s lives in the rural areas of Jamaica. \n \nIf you would like to make a possible tax deductible donation by using the donate button on this Jamaica YES website\, the level of contribution reflects the recognition by Jamaica YES\, including our website\, Facebook page and our  Instagram account. \nYou can change the lives of food insecure children in the rural areas of Jamaica. 
URL:https://jamaicayes.org/event/virtual-sparkle-shine-book-launch-benefit-gala/
LOCATION:TX
END:VEVENT
BEGIN:VEVENT
DTSTART;TZID=UTC:20210515T110000
DTEND;TZID=UTC:20210515T213000
DTSTAMP:20260423T220125
CREATED:20210421T001911Z
LAST-MODIFIED:20210421T001912Z
UID:2744-1621076400-1621114200@jamaicayes.org
SUMMARY:Panda Express Fundraiser
DESCRIPTION:For the US Panda Express locations only.\n \nOrder ONLINE from Panda Express on May 15th only\, using the special coupon code\, Panda Express will donate 28% of the sale to Jamaica YES. No extra cost to you.\n \nCOUPON CODE REQUIRED:  The coupon code is only good for this date (May 15th).  Coupon Code will be posted closer to the day of the fundraising event.\n \nOnly online orders (using the Panda Express website or Panda Express app).\n \nFor every dollar raised\, will provide 5 meals to underserved school children in the rural areas of Jamaica. You will help make a positive impact on these children.\n \nThank you for your support and participation\, it is greatly appreciated
URL:https://jamaicayes.org/event/panda-express-fundraiser/
LOCATION:TX
END:VEVENT
BEGIN:VEVENT
DTSTART;TZID=UTC:20210421T110000
DTEND;TZID=UTC:20210428T170000
DTSTAMP:20260423T220125
CREATED:20210421T001323Z
LAST-MODIFIED:20210421T002522Z
UID:2737-1619002800-1619629200@jamaicayes.org
SUMMARY:Hooters Car Wash and Food Drive
DESCRIPTION:CAR WASH AND FOOD DRIVE! \n\nHooters in Mesquite\, Texas  \nWednesday\, April 28\, 2021  \n11:00am – 4:00pm  \n3902 Towne Crossing Blvd\, Mesquite\, TX 75150  \nCome and get your car washed – any monetary donations will go to Jamaica YES and/or your donated nonperishable food items go to Minnie’s Food Pantry (Plano\, Texas based nonprofit) – donations are all voluntary\, of course. \nDuring the car wash event\, there is an opportunity to win a free  *Hooters Wing Party*\n(All you can eat wings\, fries and soft drinks for 1 hour for 10 people!) \nFood Drive:  April 21st through Wednesday\, April 28th.   Nonperishable food items will be collected in the Hooters lobby (Mequite location only).  \n  \n Minnie’s Food Pantry feeds food insecure families in North Texas. \n 
URL:https://jamaicayes.org/event/hooters-car-wash-and-food-drive/
LOCATION:Hooters – Mesquite\, 3902 Towne Crossing Blvd\, Mesquite\, TX\, 75150\, United States
END:VEVENT
BEGIN:VEVENT
DTSTART;TZID=UTC:20210205T100000
DTEND;TZID=UTC:20210205T220000
DTSTAMP:20260423T220125
CREATED:20210109T203815Z
LAST-MODIFIED:20210109T203816Z
UID:2673-1612519200-1612562400@jamaicayes.org
SUMMARY:Panda Express Nationwide Virtual Fundraiser
DESCRIPTION:All Panda Express locations in the US will be donating 28% of pretax sales to Jamaica YES on  \nFriday\, Feb 5th   \nPlace your Panda Express order on order.pandaexpress.com and enter the code 902107 in the Coupon Code area before completing your order.  This is a great way to enjoy some Panda Express food and contributing to feeding the food insecure school children in the rural areas of Jamaica. \nFriday\, February 5th ONLY   \n 
URL:https://jamaicayes.org/event/panda-express-nationwide-virtual-fundraiser-2/
LOCATION:TX
END:VEVENT
BEGIN:VEVENT
DTSTART;TZID=UTC:20201101T080000
DTEND;TZID=UTC:20201101T220000
DTSTAMP:20260423T220125
CREATED:20201027T195825Z
LAST-MODIFIED:20201027T195835Z
UID:2611-1604217600-1604268000@jamaicayes.org
SUMMARY:Panda Express Nationwide Virtual Fundraiser
DESCRIPTION:All Panda Express locations in the US will be donating 28% of pretax sales to Jamaica YES on  \nSunday\, November 1st.   \nPlace your Panda Express order on order.pandaexpress.com and enter the code 901172 in the Coupon Code area before completing your order.  This is a great way to enjoy some Panda Express food and contributing to feeding the food insecure school children in the rural areas of Jamaica. \nSunday\, November 1st ONLY   \n 
URL:https://jamaicayes.org/event/panda-express-nationwide-virtual-fundraiser/
LOCATION:TX
END:VEVENT
BEGIN:VEVENT
DTSTART;TZID=UTC:20200516T100000
DTEND;TZID=UTC:20200516T130000
DTSTAMP:20260423T220125
CREATED:20200108T182820Z
LAST-MODIFIED:20200219T215238Z
UID:2443-1589623200-1589634000@jamaicayes.org
SUMMARY:Bowl-A-Thon 2020
DESCRIPTION:Our annual bowl-a-thon to raise funds for the Jamaican school children. Sponsor a bowler (by a set monetary amount\, an amount for each strike or pin the bowler gets in two games)\, be a participant or make a general tax deductible donation. All donations go to supporting the children. \nEvery dollar raised provides 5 meals or one child’s round trip transportation to/from school for one day. \n  \nHave questions: email us at inquiries@jamaicayes.org \n  \n  \nLocation: Main Event – 407 W. State Hwy 114\, Grapevine\, TX 76051  \n817-416-1111
URL:https://jamaicayes.org/event/bowl-a-thon-2020/
LOCATION:Main Event – Grapevine\, 407 W TX-114\, Grapevine\, TX\, 76051\, United States
END:VEVENT
BEGIN:VEVENT
DTSTART;TZID=UTC:20191019T180000
DTEND;TZID=UTC:20191019T230000
DTSTAMP:20260423T220125
CREATED:20190711T012151Z
LAST-MODIFIED:20191026T164317Z
UID:1659-1571508000-1571526000@jamaicayes.org
SUMMARY:2019 Jamaican Fall Gala Fundraiser
DESCRIPTION:SAVE THE DATE\nCrystal Banquet\n6300 Independence Pkwy\nPlano\, TX   \nDress code: Semi Formal  \nDoors open at 6:00pm \nDinner Service 6:30 pm to 8:00 pm\n     Jamaican Cuisine \nMC – Rashawn Jones\nDJ – DJ Supreme\nEntertainment\nRaffles \nSilent Auction  \nWe are also celebrating our 15 year anniversary!!  Come join us at the Gala\, it will be a great evening.\nSOLD OUT!!  \nLast year’s Gala sold out\, buy your tickets early so you don’t miss this year’s event.\n  \n 
URL:https://jamaicayes.org/event/2019-jamaican-fall-gala-fundraiser/
LOCATION:Crystal Banquet\, 6300 Independence Pkwy\, Plano\, TX\, 75023\, United States
END:VEVENT
BEGIN:VEVENT
DTSTART;TZID=UTC:20190825T100000
DTEND;TZID=UTC:20190825T130000
DTSTAMP:20260423T220125
CREATED:20190718T213427Z
LAST-MODIFIED:20190718T213427Z
UID:1683-1566727200-1566738000@jamaicayes.org
SUMMARY:Family Fun Day!!
DESCRIPTION:[ngg src=”galleries” ids=”8″ display=”basic_thumbnail” maximum_entity_count=”1″]
URL:https://jamaicayes.org/event/family-fun-day/
LOCATION:Main Event – Grapevine\, 407 W TX-114\, Grapevine\, TX\, 76051\, United States
ORGANIZER;CN="Jamaica Youth Education Support":MAILTO:publicrelations@jamaicayes.org
END:VEVENT
BEGIN:VEVENT
DTSTART;TZID=UTC:20190713T070000
DTEND;TZID=UTC:20190713T120000
DTSTAMP:20260423T220125
CREATED:20190711T020117Z
LAST-MODIFIED:20190712T164158Z
UID:1664-1563001200-1563019200@jamaicayes.org
SUMMARY:Allen Community Garage Sale
DESCRIPTION:Jamaica YES is participating in a community garage sale to help raise funds to support disadvantaged school children in Jamaica.  All monies raised go to helping provide meals to the children.  \nThere are numerous participants and a variety of items for sale.  Come and do some bargain shopping all in one place.  Stop by the Jamaica YES area\, say HI.  We have a lot of items for sale\, from clothes\, childrens’ toys\, kitchen items\, home décor\, etc.   Don’t find anything to purchase\, we are also accepting monetary donations. \nHope to see you there!!  We appreciate your support.
URL:https://jamaicayes.org/event/allen-community-garage-sale/
LOCATION:Joe Farmer Recreation Center\, 1201 E Bethany Dr\, Allen\, TX\, 75002\, United States
END:VEVENT
END:VCALENDAR