BEGIN:VCALENDAR
VERSION:2.0
PRODID:-//Jamaica Youth Education Support - ECPv6.15.20//NONSGML v1.0//EN
CALSCALE:GREGORIAN
METHOD:PUBLISH
X-ORIGINAL-URL:https://jamaicayes.org
X-WR-CALDESC:Events for Jamaica Youth Education Support
REFRESH-INTERVAL;VALUE=DURATION:PT1H
X-Robots-Tag:noindex
X-PUBLISHED-TTL:PT1H
BEGIN:VTIMEZONE
TZID:UTC
BEGIN:STANDARD
TZOFFSETFROM:+0000
TZOFFSETTO:+0000
TZNAME:UTC
DTSTART:20180101T000000
END:STANDARD
END:VTIMEZONE
BEGIN:VEVENT
DTSTART;TZID=UTC:20190713T070000
DTEND;TZID=UTC:20190713T120000
DTSTAMP:20260423T233230
CREATED:20190711T020117Z
LAST-MODIFIED:20190712T164158Z
UID:1664-1563001200-1563019200@jamaicayes.org
SUMMARY:Allen Community Garage Sale
DESCRIPTION:Jamaica YES is participating in a community garage sale to help raise funds to support disadvantaged school children in Jamaica.  All monies raised go to helping provide meals to the children.  \nThere are numerous participants and a variety of items for sale.  Come and do some bargain shopping all in one place.  Stop by the Jamaica YES area\, say HI.  We have a lot of items for sale\, from clothes\, childrens’ toys\, kitchen items\, home décor\, etc.   Don’t find anything to purchase\, we are also accepting monetary donations. \nHope to see you there!!  We appreciate your support.
URL:https://jamaicayes.org/event/allen-community-garage-sale/
LOCATION:Joe Farmer Recreation Center\, 1201 E Bethany Dr\, Allen\, TX\, 75002\, United States
END:VEVENT
END:VCALENDAR